BEGIN:VCALENDAR
VERSION:2.0
PRODID:-//TDAH Estrie - ECPv6.15.20//NONSGML v1.0//EN
CALSCALE:GREGORIAN
METHOD:PUBLISH
X-WR-CALNAME:TDAH Estrie
X-ORIGINAL-URL:https://tdahestrie.org
X-WR-CALDESC:Événements pour TDAH Estrie
REFRESH-INTERVAL;VALUE=DURATION:PT1H
X-Robots-Tag:noindex
X-PUBLISHED-TTL:PT1H
BEGIN:VTIMEZONE
TZID:America/Toronto
BEGIN:DAYLIGHT
TZOFFSETFROM:-0500
TZOFFSETTO:-0400
TZNAME:EDT
DTSTART:20240310T070000
END:DAYLIGHT
BEGIN:STANDARD
TZOFFSETFROM:-0400
TZOFFSETTO:-0500
TZNAME:EST
DTSTART:20241103T060000
END:STANDARD
BEGIN:DAYLIGHT
TZOFFSETFROM:-0500
TZOFFSETTO:-0400
TZNAME:EDT
DTSTART:20250309T070000
END:DAYLIGHT
BEGIN:STANDARD
TZOFFSETFROM:-0400
TZOFFSETTO:-0500
TZNAME:EST
DTSTART:20251102T060000
END:STANDARD
BEGIN:DAYLIGHT
TZOFFSETFROM:-0500
TZOFFSETTO:-0400
TZNAME:EDT
DTSTART:20260308T070000
END:DAYLIGHT
BEGIN:STANDARD
TZOFFSETFROM:-0400
TZOFFSETTO:-0500
TZNAME:EST
DTSTART:20261101T060000
END:STANDARD
END:VTIMEZONE
BEGIN:VEVENT
DTSTART;TZID=America/Toronto:20250129T183000
DTEND;TZID=America/Toronto:20250129T203000
DTSTAMP:20260421T060054
CREATED:20241204T202848Z
LAST-MODIFIED:20241204T202848Z
UID:6357-1738175400-1738182600@tdahestrie.org
SUMMARY:Ateliers pour adultes : Mieux vivre avec mon TDAH au quotidien
DESCRIPTION:Série de 6 ateliers de groupe pour les adultes se déroulant un soir de semaine. \n\n\nObjectifs des ateliers: \n\nMieux comprendre le TDAH et son impact dans votre quotidien.\nConnaître une diversité de stratégies pouvant améliorer la qualité de vie.\nPartager avec d’autres adultes qui vivent une réalité semblable.\nExpérimenter et intégrer des stratégies qui vous conviennent\n\nSujets abordés lors des rencontres : Attention\, concentration\, organisation\, planification\, gestion des émotions\, gestion du stress\, estime de soi et relations interpersonnelles.\n\n\n\nQuand : Les mercredis du 22 janvier au 26 février 2025\n\n\nHeure : de 18h30 à 20h30\n\nLieu : 1820 Galt Ouest\, local à confirmer\n\n* Tarifs :  Membres : 140$ | Non-membres : 190$\n* Des rabais peuvent s’appliquer en fonction de votre revenu familial
URL:https://tdahestrie.org/evenement/ateliers-pour-adultes-mieux-vivre-avec-mon-tdah-au-quotidien-2/
LOCATION:TDAH Estrie\, 1820\, rue Galt Ouest\, Sherbrooke\, Québec\, J1K 1H8\, Canada
CATEGORIES:Atelier pour adultes
ATTACH;FMTTYPE=image/webp:https://tdahestrie.org/wp-content/uploads/2024/12/Atelier-adulte-mieux-vivre.webp
ORGANIZER;CN="TDAH Estrie":MAILTO:adjointe@tdahestrie.org
END:VEVENT
END:VCALENDAR