BEGIN:VCALENDAR
VERSION:2.0
PRODID:-//TDAH Estrie - ECPv6.15.20//NONSGML v1.0//EN
CALSCALE:GREGORIAN
METHOD:PUBLISH
X-WR-CALNAME:TDAH Estrie
X-ORIGINAL-URL:https://tdahestrie.org
X-WR-CALDESC:Événements pour TDAH Estrie
REFRESH-INTERVAL;VALUE=DURATION:PT1H
X-Robots-Tag:noindex
X-PUBLISHED-TTL:PT1H
BEGIN:VTIMEZONE
TZID:America/Toronto
BEGIN:DAYLIGHT
TZOFFSETFROM:-0500
TZOFFSETTO:-0400
TZNAME:EDT
DTSTART:20240310T070000
END:DAYLIGHT
BEGIN:STANDARD
TZOFFSETFROM:-0400
TZOFFSETTO:-0500
TZNAME:EST
DTSTART:20241103T060000
END:STANDARD
BEGIN:DAYLIGHT
TZOFFSETFROM:-0500
TZOFFSETTO:-0400
TZNAME:EDT
DTSTART:20250309T070000
END:DAYLIGHT
BEGIN:STANDARD
TZOFFSETFROM:-0400
TZOFFSETTO:-0500
TZNAME:EST
DTSTART:20251102T060000
END:STANDARD
BEGIN:DAYLIGHT
TZOFFSETFROM:-0500
TZOFFSETTO:-0400
TZNAME:EDT
DTSTART:20260308T070000
END:DAYLIGHT
BEGIN:STANDARD
TZOFFSETFROM:-0400
TZOFFSETTO:-0500
TZNAME:EST
DTSTART:20261101T060000
END:STANDARD
END:VTIMEZONE
BEGIN:VEVENT
DTSTART;TZID=America/Toronto:20250412T090000
DTEND;TZID=America/Toronto:20250412T111500
DTSTAMP:20260423T103506
CREATED:20240701T180654Z
LAST-MODIFIED:20240729T154628Z
UID:5901-1744448400-1744456500@tdahestrie.org
SUMMARY:Ateliers - Ma Boîte à outils - Val-Du-Lac
DESCRIPTION:Ma Boite à outils – Gestion des émotions\nSérie de 6 ateliers pour enfants de 8 à 10 ans atteints de TDAH. \nAtelier 1 – Mieux me connaître\nAtelier 2 – Mieux comprendre mes émotions partie 1\nAtelier 3 – Mieux comprendre mes émotions partie 2\nAtelier 4 – Améliorer mes relations avec les autres partie 1\nAtelier 5 – Améliorer mes relations avec les autres partie 2\nAtelier 6 – Atelier bilan
URL:https://tdahestrie.org/evenement/ateliers-boite-a-outils-val-du-lac-2025-04-12/
CATEGORIES:Atelier pour enfant
ATTACH;FMTTYPE=image/png:https://tdahestrie.org/wp-content/uploads/2022/09/Boite-a-outils-22-23-visuel-FB-500-x-500-px-1200-×-400-px.png
END:VEVENT
END:VCALENDAR