BEGIN:VCALENDAR
VERSION:2.0
PRODID:-//TDAH Estrie - ECPv6.15.20//NONSGML v1.0//EN
CALSCALE:GREGORIAN
METHOD:PUBLISH
X-WR-CALNAME:TDAH Estrie
X-ORIGINAL-URL:https://tdahestrie.org
X-WR-CALDESC:Événements pour TDAH Estrie
REFRESH-INTERVAL;VALUE=DURATION:PT1H
X-Robots-Tag:noindex
X-PUBLISHED-TTL:PT1H
BEGIN:VTIMEZONE
TZID:America/Toronto
BEGIN:DAYLIGHT
TZOFFSETFROM:-0500
TZOFFSETTO:-0400
TZNAME:EDT
DTSTART:20240310T070000
END:DAYLIGHT
BEGIN:STANDARD
TZOFFSETFROM:-0400
TZOFFSETTO:-0500
TZNAME:EST
DTSTART:20241103T060000
END:STANDARD
BEGIN:DAYLIGHT
TZOFFSETFROM:-0500
TZOFFSETTO:-0400
TZNAME:EDT
DTSTART:20250309T070000
END:DAYLIGHT
BEGIN:STANDARD
TZOFFSETFROM:-0400
TZOFFSETTO:-0500
TZNAME:EST
DTSTART:20251102T060000
END:STANDARD
BEGIN:DAYLIGHT
TZOFFSETFROM:-0500
TZOFFSETTO:-0400
TZNAME:EDT
DTSTART:20260308T070000
END:DAYLIGHT
BEGIN:STANDARD
TZOFFSETFROM:-0400
TZOFFSETTO:-0500
TZNAME:EST
DTSTART:20261101T060000
END:STANDARD
END:VTIMEZONE
BEGIN:VEVENT
DTSTART;TZID=America/Toronto:20250415T183000
DTEND;TZID=America/Toronto:20250415T203000
DTSTAMP:20260423T055506
CREATED:20250311T203100Z
LAST-MODIFIED:20250311T203100Z
UID:6509-1744741800-1744749000@tdahestrie.org
SUMMARY:Atelier sur le Budget
DESCRIPTION:Vous souhaitez en apprendre plus sur comment faire un budget ou vous désirez peaufiner le vôtre? Cet atelier est fait pour vous!\nMélissa de Solution Budget Plus sera présente pour vous guider dans cet atelier sur la gestion d’un budget. \n\n\nPour qui: Adultes de 18 ans +\, membres de TDAH Estrie\nCoût: 5$/personne\nLieu : 1820 rue Galt Ouest\, Sherbrooke\, local 334\nQuand: Mardi 15 avril 2025\nHeure: 18h30 à 20h30\n\nPlaces limitées. Inscription obligatoire avant le 4 avril 2025. Au plaisir de vous rencontrer!\n\n\n*** IMPORTANT – Il faut absolument payer avant l’activité. \n\n***IMPORTANT – Veuillez nous aviser si vous ne pouvez plus participer à l’activité. Sachez qu’il n’y a pas de remboursement possible lors d’une annulation de votre part. Néanmoins\, si l’événement est annulé par TDAH Estrie\, nous effectuerons un remboursement pour chacun des participants.\n\nPour toute question\, contactez Meagan Brus au 819-565-7131 p.4 / intervenant5@tdahestrie.org
URL:https://tdahestrie.org/evenement/atelier-sur-le-budget/
CATEGORIES:Atelier pour adultes
ATTACH;FMTTYPE=image/png:https://tdahestrie.org/wp-content/uploads/2025/03/ATELIER-BUDGET.png
ORGANIZER;CN="TDAH Estrie":MAILTO:adjointe@tdahestrie.org
END:VEVENT
END:VCALENDAR