BEGIN:VCALENDAR
VERSION:2.0
PRODID:-//TDAH Estrie - ECPv6.15.20//NONSGML v1.0//EN
CALSCALE:GREGORIAN
METHOD:PUBLISH
X-ORIGINAL-URL:https://tdahestrie.org
X-WR-CALDESC:Événements pour TDAH Estrie
REFRESH-INTERVAL;VALUE=DURATION:PT1H
X-Robots-Tag:noindex
X-PUBLISHED-TTL:PT1H
BEGIN:VTIMEZONE
TZID:America/Toronto
BEGIN:DAYLIGHT
TZOFFSETFROM:-0500
TZOFFSETTO:-0400
TZNAME:EDT
DTSTART:20240310T070000
END:DAYLIGHT
BEGIN:STANDARD
TZOFFSETFROM:-0400
TZOFFSETTO:-0500
TZNAME:EST
DTSTART:20241103T060000
END:STANDARD
BEGIN:DAYLIGHT
TZOFFSETFROM:-0500
TZOFFSETTO:-0400
TZNAME:EDT
DTSTART:20250309T070000
END:DAYLIGHT
BEGIN:STANDARD
TZOFFSETFROM:-0400
TZOFFSETTO:-0500
TZNAME:EST
DTSTART:20251102T060000
END:STANDARD
BEGIN:DAYLIGHT
TZOFFSETFROM:-0500
TZOFFSETTO:-0400
TZNAME:EDT
DTSTART:20260308T070000
END:DAYLIGHT
BEGIN:STANDARD
TZOFFSETFROM:-0400
TZOFFSETTO:-0500
TZNAME:EST
DTSTART:20261101T060000
END:STANDARD
END:VTIMEZONE
BEGIN:VEVENT
DTSTART;TZID=America/Toronto:20251118T180000
DTEND;TZID=America/Toronto:20251118T193000
DTSTAMP:20260421T184335
CREATED:20250708T144259Z
LAST-MODIFIED:20250708T144259Z
UID:6629-1763488800-1763494200@tdahestrie.org
SUMMARY:Séance d'information - Parents
DESCRIPTION:Nos séances d’information sont des rencontres en petit groupe qui visent à démystifier le TDAH et à présenter plus en détail les services offerts par TDAH Estrie. Elles constituent la porte d’entrée habituelle pour accéder à un soutien individuel. Nous prenons aussi le temps de répondre aux questions des participants afin de clarifier certains aspects au besoin.Ces séances sont gratuites pour les membres de TDAH Estrie. L’adhésion annuelle est de 25 $ pour un adulte ou de 30 $ pour une famille. \n  \nInscription par téléphone au : 819-565-7131.
URL:https://tdahestrie.org/evenement/seance-dinformation-parents-4/
LOCATION:TDAH Estrie\, 1820\, rue Galt Ouest\, Sherbrooke\, Québec\, J1K 1H8\, Canada
CATEGORIES:Rencontre d'information
ATTACH;FMTTYPE=image/jpeg:https://tdahestrie.org/wp-content/uploads/2024/07/question-4105529_640-e1720033223290.jpg
END:VEVENT
END:VCALENDAR