BEGIN:VCALENDAR
VERSION:2.0
PRODID:-//TDAH Estrie - ECPv6.15.20//NONSGML v1.0//EN
CALSCALE:GREGORIAN
METHOD:PUBLISH
X-ORIGINAL-URL:https://tdahestrie.org
X-WR-CALDESC:Événements pour TDAH Estrie
REFRESH-INTERVAL;VALUE=DURATION:PT1H
X-Robots-Tag:noindex
X-PUBLISHED-TTL:PT1H
BEGIN:VTIMEZONE
TZID:America/Toronto
BEGIN:DAYLIGHT
TZOFFSETFROM:-0500
TZOFFSETTO:-0400
TZNAME:EDT
DTSTART:20240310T070000
END:DAYLIGHT
BEGIN:STANDARD
TZOFFSETFROM:-0400
TZOFFSETTO:-0500
TZNAME:EST
DTSTART:20241103T060000
END:STANDARD
BEGIN:DAYLIGHT
TZOFFSETFROM:-0500
TZOFFSETTO:-0400
TZNAME:EDT
DTSTART:20250309T070000
END:DAYLIGHT
BEGIN:STANDARD
TZOFFSETFROM:-0400
TZOFFSETTO:-0500
TZNAME:EST
DTSTART:20251102T060000
END:STANDARD
BEGIN:DAYLIGHT
TZOFFSETFROM:-0500
TZOFFSETTO:-0400
TZNAME:EDT
DTSTART:20260308T070000
END:DAYLIGHT
BEGIN:STANDARD
TZOFFSETFROM:-0400
TZOFFSETTO:-0500
TZNAME:EST
DTSTART:20261101T060000
END:STANDARD
END:VTIMEZONE
BEGIN:VEVENT
DTSTART;VALUE=DATE:20250630
DTEND;VALUE=DATE:20250726
DTSTAMP:20260420T153712
CREATED:20250625T180056Z
LAST-MODIFIED:20250625T180056Z
UID:6613-1751241600-1753487999@tdahestrie.org
SUMMARY:CAMP DE JOUR - La bougeotte
DESCRIPTION:Camp de jour estival spécialisé de 4 semaines pour enfants de 8 à 10 ans ayant un TDAH. \nCette année\, le camp se déroule sous le thème de l’océan 🌊.
URL:https://tdahestrie.org/evenement/camp-de-jour-la-bougeotte/
CATEGORIES:Autre
ATTACH;FMTTYPE=image/png:https://tdahestrie.org/wp-content/uploads/2025/06/Logo-Camp.png
ORGANIZER;CN="TDAH Estrie":MAILTO:adjointe@tdahestrie.org
END:VEVENT
END:VCALENDAR