BEGIN:VCALENDAR
VERSION:2.0
PRODID:-//TDAH Estrie - ECPv6.15.20//NONSGML v1.0//EN
CALSCALE:GREGORIAN
METHOD:PUBLISH
X-ORIGINAL-URL:https://tdahestrie.org
X-WR-CALDESC:Événements pour TDAH Estrie
REFRESH-INTERVAL;VALUE=DURATION:PT1H
X-Robots-Tag:noindex
X-PUBLISHED-TTL:PT1H
BEGIN:VTIMEZONE
TZID:America/Toronto
BEGIN:DAYLIGHT
TZOFFSETFROM:-0500
TZOFFSETTO:-0400
TZNAME:EDT
DTSTART:20230312T070000
END:DAYLIGHT
BEGIN:STANDARD
TZOFFSETFROM:-0400
TZOFFSETTO:-0500
TZNAME:EST
DTSTART:20231105T060000
END:STANDARD
BEGIN:DAYLIGHT
TZOFFSETFROM:-0500
TZOFFSETTO:-0400
TZNAME:EDT
DTSTART:20240310T070000
END:DAYLIGHT
BEGIN:STANDARD
TZOFFSETFROM:-0400
TZOFFSETTO:-0500
TZNAME:EST
DTSTART:20241103T060000
END:STANDARD
BEGIN:DAYLIGHT
TZOFFSETFROM:-0500
TZOFFSETTO:-0400
TZNAME:EDT
DTSTART:20250309T070000
END:DAYLIGHT
BEGIN:STANDARD
TZOFFSETFROM:-0400
TZOFFSETTO:-0500
TZNAME:EST
DTSTART:20251102T060000
END:STANDARD
END:VTIMEZONE
BEGIN:VEVENT
DTSTART;TZID=America/Toronto:20241003T180000
DTEND;TZID=America/Toronto:20241003T190000
DTSTAMP:20260421T061600
CREATED:20240725T201453Z
LAST-MODIFIED:20240725T201453Z
UID:6072-1727978400-1727982000@tdahestrie.org
SUMMARY:Série d'ateliers Yoga avec Sonia Soleil
DESCRIPTION:Profitez de votre statut de membre chez TDAH Estrie pour venir prendre soin de vous avec 8 cours de yoga cet automne\, et ce\, pour seulement 50$. Les places sont limitées : inscrivez vous rapidement! \nLes jeudis soirs de 18h à 19h les 26 septembre\, 3 octobre\, 10 octobre\, 17 octobre\, 24 octobre\, 7 novembre\, 14 novembre et 21 novembre. \n❔Vous avez des questions❔\nMeagan Brus\n819-565-7131 poste 4\nou\nintervenant5@tdahestrie.org
URL:https://tdahestrie.org/evenement/serie-dateliers-yoga-avec-sonia-soleil-2024-10-03/
LOCATION:TDAH Estrie\, 1820\, rue Galt Ouest\, Sherbrooke\, Québec\, J1K 1H8\, Canada
CATEGORIES:Autre
END:VEVENT
BEGIN:VEVENT
DTSTART;TZID=America/Toronto:20241005T090000
DTEND;TZID=America/Toronto:20241005T111500
DTSTAMP:20260421T061600
CREATED:20240701T040023Z
LAST-MODIFIED:20240729T154732Z
UID:5904-1728118800-1728126900@tdahestrie.org
SUMMARY:Ateliers - Ma Boîte à Outils - Sherbrooke
DESCRIPTION:Ma Boite à outils – Gestion des émotions\nSérie de 6 ateliers pour enfants de 8 à 10 ans atteints de TDAH. \nAtelier 1 – Mieux me connaître\nAtelier 2 – Mieux comprendre mes émotions partie 1\nAtelier 3 – Mieux comprendre mes émotions partie 2\nAtelier 4 – Améliorer mes relations avec les autres partie 1\nAtelier 5 – Améliorer mes relations avec les autres partie 2\nAtelier 6 – Atelier bilan
URL:https://tdahestrie.org/evenement/ateliers-boite-a-outils-gestion-des-emotions-1-6-2024-10-05/
LOCATION:TDAH Estrie\, 1820\, rue Galt Ouest\, Sherbrooke\, Québec\, J1K 1H8\, Canada
CATEGORIES:Atelier pour enfant
ATTACH;FMTTYPE=image/png:https://tdahestrie.org/wp-content/uploads/2022/09/Boite-a-outils-22-23-visuel-FB-500-x-500-px-1200-×-400-px.png
END:VEVENT
BEGIN:VEVENT
DTSTART;TZID=America/Toronto:20241010T180000
DTEND;TZID=America/Toronto:20241010T190000
DTSTAMP:20260421T061600
CREATED:20240725T201453Z
LAST-MODIFIED:20240725T201453Z
UID:6073-1728583200-1728586800@tdahestrie.org
SUMMARY:Série d'ateliers Yoga avec Sonia Soleil
DESCRIPTION:Profitez de votre statut de membre chez TDAH Estrie pour venir prendre soin de vous avec 8 cours de yoga cet automne\, et ce\, pour seulement 50$. Les places sont limitées : inscrivez vous rapidement! \nLes jeudis soirs de 18h à 19h les 26 septembre\, 3 octobre\, 10 octobre\, 17 octobre\, 24 octobre\, 7 novembre\, 14 novembre et 21 novembre. \n❔Vous avez des questions❔\nMeagan Brus\n819-565-7131 poste 4\nou\nintervenant5@tdahestrie.org
URL:https://tdahestrie.org/evenement/serie-dateliers-yoga-avec-sonia-soleil-2024-10-10/
LOCATION:TDAH Estrie\, 1820\, rue Galt Ouest\, Sherbrooke\, Québec\, J1K 1H8\, Canada
CATEGORIES:Autre
END:VEVENT
BEGIN:VEVENT
DTSTART;TZID=America/Toronto:20241010T180000
DTEND;TZID=America/Toronto:20241010T193000
DTSTAMP:20260421T061600
CREATED:20240703T184818Z
LAST-MODIFIED:20240703T184818Z
UID:5981-1728583200-1728588600@tdahestrie.org
SUMMARY:Rencontre d'information - Adultes
DESCRIPTION:Les rencontres d’information sont des sessions organisées en réponse à nos longues listes d’attente. Elles fournissent une occasion aux participants de découvrir nos services\, poser des questions\, et obtenir des informations détaillées sur nos offres et processus.
URL:https://tdahestrie.org/evenement/rencontre-dinformation-adultes-2024-10-10/
LOCATION:TDAH Estrie\, 1820\, rue Galt Ouest\, Sherbrooke\, Québec\, J1K 1H8\, Canada
CATEGORIES:Rencontre d'information
ATTACH;FMTTYPE=image/jpeg:https://tdahestrie.org/wp-content/uploads/2024/07/dreamstime_s_10196402-e1720032656646.jpg
END:VEVENT
BEGIN:VEVENT
DTSTART;TZID=America/Toronto:20241012T090000
DTEND;TZID=America/Toronto:20241012T111500
DTSTAMP:20260421T061600
CREATED:20240701T040023Z
LAST-MODIFIED:20240729T154732Z
UID:5905-1728723600-1728731700@tdahestrie.org
SUMMARY:Ateliers - Ma Boîte à Outils - Sherbrooke
DESCRIPTION:Ma Boite à outils – Gestion des émotions\nSérie de 6 ateliers pour enfants de 8 à 10 ans atteints de TDAH. \nAtelier 1 – Mieux me connaître\nAtelier 2 – Mieux comprendre mes émotions partie 1\nAtelier 3 – Mieux comprendre mes émotions partie 2\nAtelier 4 – Améliorer mes relations avec les autres partie 1\nAtelier 5 – Améliorer mes relations avec les autres partie 2\nAtelier 6 – Atelier bilan
URL:https://tdahestrie.org/evenement/ateliers-boite-a-outils-gestion-des-emotions-1-6-2024-10-12/
LOCATION:TDAH Estrie\, 1820\, rue Galt Ouest\, Sherbrooke\, Québec\, J1K 1H8\, Canada
CATEGORIES:Atelier pour enfant
ATTACH;FMTTYPE=image/png:https://tdahestrie.org/wp-content/uploads/2022/09/Boite-a-outils-22-23-visuel-FB-500-x-500-px-1200-×-400-px.png
END:VEVENT
BEGIN:VEVENT
DTSTART;TZID=America/Toronto:20241017T180000
DTEND;TZID=America/Toronto:20241017T190000
DTSTAMP:20260421T061600
CREATED:20240725T201453Z
LAST-MODIFIED:20240725T201453Z
UID:6074-1729188000-1729191600@tdahestrie.org
SUMMARY:Série d'ateliers Yoga avec Sonia Soleil
DESCRIPTION:Profitez de votre statut de membre chez TDAH Estrie pour venir prendre soin de vous avec 8 cours de yoga cet automne\, et ce\, pour seulement 50$. Les places sont limitées : inscrivez vous rapidement! \nLes jeudis soirs de 18h à 19h les 26 septembre\, 3 octobre\, 10 octobre\, 17 octobre\, 24 octobre\, 7 novembre\, 14 novembre et 21 novembre. \n❔Vous avez des questions❔\nMeagan Brus\n819-565-7131 poste 4\nou\nintervenant5@tdahestrie.org
URL:https://tdahestrie.org/evenement/serie-dateliers-yoga-avec-sonia-soleil-2024-10-17/
LOCATION:TDAH Estrie\, 1820\, rue Galt Ouest\, Sherbrooke\, Québec\, J1K 1H8\, Canada
CATEGORIES:Autre
END:VEVENT
BEGIN:VEVENT
DTSTART;TZID=America/Toronto:20241022T180000
DTEND;TZID=America/Toronto:20241022T193000
DTSTAMP:20260421T061600
CREATED:20240703T190049Z
LAST-MODIFIED:20240703T190049Z
UID:5991-1729620000-1729625400@tdahestrie.org
SUMMARY:Rencontre d'information - Parents
DESCRIPTION:Les rencontres d’information sont des sessions organisées en réponse à nos longues listes d’attente. Elles fournissent une occasion aux participants de découvrir nos services\, poser des questions\, et obtenir des informations détaillées sur nos offres et processus.
URL:https://tdahestrie.org/evenement/rencontre-dinformation-parents-2024-10-22/
LOCATION:TDAH Estrie\, 1820\, rue Galt Ouest\, Sherbrooke\, Québec\, J1K 1H8\, Canada
CATEGORIES:Rencontre d'information
ATTACH;FMTTYPE=image/jpeg:https://tdahestrie.org/wp-content/uploads/2024/07/question-4105529_640-e1720033223290.jpg
END:VEVENT
BEGIN:VEVENT
DTSTART;TZID=America/Toronto:20241024T180000
DTEND;TZID=America/Toronto:20241024T190000
DTSTAMP:20260421T061600
CREATED:20240725T201453Z
LAST-MODIFIED:20240725T201453Z
UID:6075-1729792800-1729796400@tdahestrie.org
SUMMARY:Série d'ateliers Yoga avec Sonia Soleil
DESCRIPTION:Profitez de votre statut de membre chez TDAH Estrie pour venir prendre soin de vous avec 8 cours de yoga cet automne\, et ce\, pour seulement 50$. Les places sont limitées : inscrivez vous rapidement! \nLes jeudis soirs de 18h à 19h les 26 septembre\, 3 octobre\, 10 octobre\, 17 octobre\, 24 octobre\, 7 novembre\, 14 novembre et 21 novembre. \n❔Vous avez des questions❔\nMeagan Brus\n819-565-7131 poste 4\nou\nintervenant5@tdahestrie.org
URL:https://tdahestrie.org/evenement/serie-dateliers-yoga-avec-sonia-soleil-2024-10-24/
LOCATION:TDAH Estrie\, 1820\, rue Galt Ouest\, Sherbrooke\, Québec\, J1K 1H8\, Canada
CATEGORIES:Autre
END:VEVENT
BEGIN:VEVENT
DTSTART;TZID=America/Toronto:20241025T080000
DTEND;TZID=America/Toronto:20241025T163000
DTSTAMP:20260421T061600
CREATED:20231116T185527Z
LAST-MODIFIED:20240212T194338Z
UID:3765-1729843200-1729873800@tdahestrie.org
SUMMARY:Colloque TDAH
DESCRIPTION:📍Lieu :  Au Cégep de Sherbrooke – salle Alfred DesRochers\, 200\, rue Terrill (pavillon 3) Sherbrooke (Québec) J1E 3B1 \n👤Pour qui: Tous les professionnels rencontrant dans leur pratique des personnes touchées par le TDAH.
URL:https://tdahestrie.org/evenement/colloque-tdah/
LOCATION:Au Cégep de Sherbrooke – salle Alfred DesRochers\, 200\, rue Terrill (pavillon 3) Sherbrooke (Québec) J1E 3B1\, Au Cégep de Sherbrooke - salle Alfred DesRochers\, 200\, rue Terrill (pavillon 3)\, Sherbrooke\, Québec\, J1E 3B1
CATEGORIES:Conférences
ATTACH;FMTTYPE=image/png:https://tdahestrie.org/wp-content/uploads/2023/11/bandeau-final.png
ORGANIZER;CN="TDAH Estrie":MAILTO:adjointe@tdahestrie.org
END:VEVENT
BEGIN:VEVENT
DTSTART;TZID=America/Toronto:20241026T090000
DTEND;TZID=America/Toronto:20241026T113000
DTSTAMP:20260421T061600
CREATED:20231116T184611Z
LAST-MODIFIED:20240722T183247Z
UID:3757-1729933200-1729942200@tdahestrie.org
SUMMARY:Ateliers - PIFAM - Val-Du-Lac
DESCRIPTION:Mon cerveau apprivoisé – PIFAM\nSérie de 6 ateliers pour enfants de 10 à 12 ans atteints de TDAH. \nAtelier 1 – Penser comme un génie (découvrir différentes formes d’intelligence)\nUn cerveau attentif et intelligent (mieux comprendre le TDAH)\nAtelier 2 – La visualisation (développer la capacité à voir et manipuler les images mentales)\nLa verbalisation (développer le discours interne et travailler le langage)\nAtelier 3 – Le contremaître (gérer le temps et les ressources personnelles)\nAtelier 4 – La bibliothécaire (développer des meilleures façons de mémoriser l’information)\nL’artiste (trouver de nouvelles solutions\, adopter différents points de vue)\nAtelier 5 – L’architecte (rassembler et organiser l’information)\nLe menuisier (réaliser et respecter les étapes d’un plan)\nAtelier 6 – Le marché des efforts (bilan et réinvestissement)
URL:https://tdahestrie.org/evenement/ateliers-pour-enfants-ayant-un-tdah-mon-cerveau-apprivoise/
LOCATION:TDAH Estrie\, 1820\, rue Galt Ouest\, Sherbrooke\, Québec\, J1K 1H8\, Canada
CATEGORIES:Atelier pour enfant
ATTACH;FMTTYPE=image/png:https://tdahestrie.org/wp-content/uploads/2024/07/Sans-titre.png
END:VEVENT
END:VCALENDAR