BEGIN:VCALENDAR
VERSION:2.0
PRODID:-//TDAH Estrie - ECPv6.15.20//NONSGML v1.0//EN
CALSCALE:GREGORIAN
METHOD:PUBLISH
X-WR-CALNAME:TDAH Estrie
X-ORIGINAL-URL:https://tdahestrie.org
X-WR-CALDESC:Événements pour TDAH Estrie
REFRESH-INTERVAL;VALUE=DURATION:PT1H
X-Robots-Tag:noindex
X-PUBLISHED-TTL:PT1H
BEGIN:VTIMEZONE
TZID:America/Toronto
BEGIN:DAYLIGHT
TZOFFSETFROM:-0500
TZOFFSETTO:-0400
TZNAME:EDT
DTSTART:20240310T070000
END:DAYLIGHT
BEGIN:STANDARD
TZOFFSETFROM:-0400
TZOFFSETTO:-0500
TZNAME:EST
DTSTART:20241103T060000
END:STANDARD
BEGIN:DAYLIGHT
TZOFFSETFROM:-0500
TZOFFSETTO:-0400
TZNAME:EDT
DTSTART:20250309T070000
END:DAYLIGHT
BEGIN:STANDARD
TZOFFSETFROM:-0400
TZOFFSETTO:-0500
TZNAME:EST
DTSTART:20251102T060000
END:STANDARD
BEGIN:DAYLIGHT
TZOFFSETFROM:-0500
TZOFFSETTO:-0400
TZNAME:EDT
DTSTART:20260308T070000
END:DAYLIGHT
BEGIN:STANDARD
TZOFFSETFROM:-0400
TZOFFSETTO:-0500
TZNAME:EST
DTSTART:20261101T060000
END:STANDARD
END:VTIMEZONE
BEGIN:VEVENT
DTSTART;TZID=America/Toronto:20250201T090000
DTEND;TZID=America/Toronto:20250201T113000
DTSTAMP:20260421T060905
CREATED:20240701T175933Z
LAST-MODIFIED:20240722T183214Z
UID:5913-1738400400-1738409400@tdahestrie.org
SUMMARY:Ateliers - PIFAM - Sherbrooke
DESCRIPTION:Mon cerveau apprivoisé – PIFAM\nSérie de 6 ateliers pour enfants de 10 à 12 ans atteints de TDAH. \nAtelier 1 – Penser comme un génie (découvrir différentes formes d’intelligence)\nUn cerveau attentif et intelligent (mieux comprendre le TDAH)\nAtelier 2 – La visualisation (développer la capacité à voir et manipuler les images mentales)\nLa verbalisation (développer le discours interne et travailler le langage)\nAtelier 3 – Le contremaître (gérer le temps et les ressources personnelles)\nAtelier 4 – La bibliothécaire (développer des meilleures façons de mémoriser l’information)\nL’artiste (trouver de nouvelles solutions\, adopter différents points de vue)\nAtelier 5 – L’architecte (rassembler et organiser l’information)\nLe menuisier (réaliser et respecter les étapes d’un plan)\nAtelier 6 – Le marché des efforts (bilan et réinvestissement)
URL:https://tdahestrie.org/evenement/ateliers-pifam-sherbrooke-2025-02-01/
LOCATION:TDAH Estrie\, 1820\, rue Galt Ouest\, Sherbrooke\, Québec\, J1K 1H8\, Canada
CATEGORIES:Atelier pour enfant
ATTACH;FMTTYPE=image/png:https://tdahestrie.org/wp-content/uploads/2024/07/Sans-titre.png
END:VEVENT
BEGIN:VEVENT
DTSTART;TZID=America/Toronto:20250205T183000
DTEND;TZID=America/Toronto:20250205T203000
DTSTAMP:20260421T060905
CREATED:20241204T202923Z
LAST-MODIFIED:20241204T202923Z
UID:6359-1738780200-1738787400@tdahestrie.org
SUMMARY:Ateliers pour adultes : Mieux vivre avec mon TDAH au quotidien
DESCRIPTION:Série de 6 ateliers de groupe pour les adultes se déroulant un soir de semaine. \n\n\nObjectifs des ateliers: \n\nMieux comprendre le TDAH et son impact dans votre quotidien.\nConnaître une diversité de stratégies pouvant améliorer la qualité de vie.\nPartager avec d’autres adultes qui vivent une réalité semblable.\nExpérimenter et intégrer des stratégies qui vous conviennent\n\nSujets abordés lors des rencontres : Attention\, concentration\, organisation\, planification\, gestion des émotions\, gestion du stress\, estime de soi et relations interpersonnelles.\n\n\n\nQuand : Les mercredis du 22 janvier au 26 février 2025\n\n\nHeure : de 18h30 à 20h30\n\nLieu : 1820 Galt Ouest\, local à confirmer\n\n* Tarifs :  Membres : 140$ | Non-membres : 190$\n* Des rabais peuvent s’appliquer en fonction de votre revenu familial
URL:https://tdahestrie.org/evenement/ateliers-pour-adultes-mieux-vivre-avec-mon-tdah-au-quotidien-3/
LOCATION:TDAH Estrie\, 1820\, rue Galt Ouest\, Sherbrooke\, Québec\, J1K 1H8\, Canada
CATEGORIES:Atelier pour adultes
ATTACH;FMTTYPE=image/webp:https://tdahestrie.org/wp-content/uploads/2024/12/Atelier-adulte-mieux-vivre.webp
ORGANIZER;CN="TDAH Estrie":MAILTO:adjointe@tdahestrie.org
END:VEVENT
BEGIN:VEVENT
DTSTART;TZID=America/Toronto:20250208T090000
DTEND;TZID=America/Toronto:20250208T113000
DTSTAMP:20260421T060905
CREATED:20240701T175933Z
LAST-MODIFIED:20240722T183214Z
UID:5914-1739005200-1739014200@tdahestrie.org
SUMMARY:Ateliers - PIFAM - Sherbrooke
DESCRIPTION:Mon cerveau apprivoisé – PIFAM\nSérie de 6 ateliers pour enfants de 10 à 12 ans atteints de TDAH. \nAtelier 1 – Penser comme un génie (découvrir différentes formes d’intelligence)\nUn cerveau attentif et intelligent (mieux comprendre le TDAH)\nAtelier 2 – La visualisation (développer la capacité à voir et manipuler les images mentales)\nLa verbalisation (développer le discours interne et travailler le langage)\nAtelier 3 – Le contremaître (gérer le temps et les ressources personnelles)\nAtelier 4 – La bibliothécaire (développer des meilleures façons de mémoriser l’information)\nL’artiste (trouver de nouvelles solutions\, adopter différents points de vue)\nAtelier 5 – L’architecte (rassembler et organiser l’information)\nLe menuisier (réaliser et respecter les étapes d’un plan)\nAtelier 6 – Le marché des efforts (bilan et réinvestissement)
URL:https://tdahestrie.org/evenement/ateliers-pifam-sherbrooke-2025-02-08/
LOCATION:TDAH Estrie\, 1820\, rue Galt Ouest\, Sherbrooke\, Québec\, J1K 1H8\, Canada
CATEGORIES:Atelier pour enfant
ATTACH;FMTTYPE=image/png:https://tdahestrie.org/wp-content/uploads/2024/07/Sans-titre.png
END:VEVENT
BEGIN:VEVENT
DTSTART;TZID=America/Toronto:20250212T183000
DTEND;TZID=America/Toronto:20250212T203000
DTSTAMP:20260421T060905
CREATED:20241204T202944Z
LAST-MODIFIED:20241204T203026Z
UID:6361-1739385000-1739392200@tdahestrie.org
SUMMARY:Ateliers pour adultes : Mieux vivre avec mon TDAH au quotidien
DESCRIPTION:Série de 6 ateliers de groupe pour les adultes se déroulant un soir de semaine. \n\n\nObjectifs des ateliers: \n\nMieux comprendre le TDAH et son impact dans votre quotidien.\nConnaître une diversité de stratégies pouvant améliorer la qualité de vie.\nPartager avec d’autres adultes qui vivent une réalité semblable.\nExpérimenter et intégrer des stratégies qui vous conviennent\n\nSujets abordés lors des rencontres : Attention\, concentration\, organisation\, planification\, gestion des émotions\, gestion du stress\, estime de soi et relations interpersonnelles.\n\n\n\nQuand : Les mercredis du 22 janvier au 26 février 2025\n\n\nHeure : de 18h30 à 20h30\n\nLieu : 1820 Galt Ouest\, local à confirmer\n\n* Tarifs :  Membres : 140$ | Non-membres : 190$\n* Des rabais peuvent s’appliquer en fonction de votre revenu familial
URL:https://tdahestrie.org/evenement/ateliers-pour-adultes-mieux-vivre-avec-mon-tdah-au-quotidien-4/
LOCATION:TDAH Estrie\, 1820\, rue Galt Ouest\, Sherbrooke\, Québec\, J1K 1H8\, Canada
CATEGORIES:Atelier pour adultes
ATTACH;FMTTYPE=image/webp:https://tdahestrie.org/wp-content/uploads/2024/12/Atelier-adulte-mieux-vivre.webp
ORGANIZER;CN="TDAH Estrie":MAILTO:adjointe@tdahestrie.org
END:VEVENT
BEGIN:VEVENT
DTSTART;TZID=America/Toronto:20250215T090000
DTEND;TZID=America/Toronto:20250215T113000
DTSTAMP:20260421T060905
CREATED:20240701T175933Z
LAST-MODIFIED:20240722T183215Z
UID:5915-1739610000-1739619000@tdahestrie.org
SUMMARY:Ateliers - PIFAM - Sherbrooke
DESCRIPTION:Mon cerveau apprivoisé – PIFAM\nSérie de 6 ateliers pour enfants de 10 à 12 ans atteints de TDAH. \nAtelier 1 – Penser comme un génie (découvrir différentes formes d’intelligence)\nUn cerveau attentif et intelligent (mieux comprendre le TDAH)\nAtelier 2 – La visualisation (développer la capacité à voir et manipuler les images mentales)\nLa verbalisation (développer le discours interne et travailler le langage)\nAtelier 3 – Le contremaître (gérer le temps et les ressources personnelles)\nAtelier 4 – La bibliothécaire (développer des meilleures façons de mémoriser l’information)\nL’artiste (trouver de nouvelles solutions\, adopter différents points de vue)\nAtelier 5 – L’architecte (rassembler et organiser l’information)\nLe menuisier (réaliser et respecter les étapes d’un plan)\nAtelier 6 – Le marché des efforts (bilan et réinvestissement)
URL:https://tdahestrie.org/evenement/ateliers-pifam-sherbrooke-2025-02-15/
LOCATION:TDAH Estrie\, 1820\, rue Galt Ouest\, Sherbrooke\, Québec\, J1K 1H8\, Canada
CATEGORIES:Atelier pour enfant
ATTACH;FMTTYPE=image/png:https://tdahestrie.org/wp-content/uploads/2024/07/Sans-titre.png
END:VEVENT
BEGIN:VEVENT
DTSTART;TZID=America/Toronto:20250219T183000
DTEND;TZID=America/Toronto:20250219T203000
DTSTAMP:20260421T060905
CREATED:20241204T203054Z
LAST-MODIFIED:20241204T203054Z
UID:6363-1739989800-1739997000@tdahestrie.org
SUMMARY:Ateliers pour adultes : Mieux vivre avec mon TDAH au quotidien
DESCRIPTION:Série de 6 ateliers de groupe pour les adultes se déroulant un soir de semaine. \n\n\nObjectifs des ateliers: \n\nMieux comprendre le TDAH et son impact dans votre quotidien.\nConnaître une diversité de stratégies pouvant améliorer la qualité de vie.\nPartager avec d’autres adultes qui vivent une réalité semblable.\nExpérimenter et intégrer des stratégies qui vous conviennent\n\nSujets abordés lors des rencontres : Attention\, concentration\, organisation\, planification\, gestion des émotions\, gestion du stress\, estime de soi et relations interpersonnelles.\n\n\n\nQuand : Les mercredis du 22 janvier au 26 février 2025\n\n\nHeure : de 18h30 à 20h30\n\nLieu : 1820 Galt Ouest\, local à confirmer\n\n* Tarifs :  Membres : 140$ | Non-membres : 190$\n* Des rabais peuvent s’appliquer en fonction de votre revenu familial
URL:https://tdahestrie.org/evenement/ateliers-pour-adultes-mieux-vivre-avec-mon-tdah-au-quotidien-5/
LOCATION:TDAH Estrie\, 1820\, rue Galt Ouest\, Sherbrooke\, Québec\, J1K 1H8\, Canada
CATEGORIES:Atelier pour adultes
ATTACH;FMTTYPE=image/webp:https://tdahestrie.org/wp-content/uploads/2024/12/Atelier-adulte-mieux-vivre.webp
ORGANIZER;CN="TDAH Estrie":MAILTO:adjointe@tdahestrie.org
END:VEVENT
BEGIN:VEVENT
DTSTART;TZID=America/Toronto:20250220T183000
DTEND;TZID=America/Toronto:20250220T203000
DTSTAMP:20260421T060905
CREATED:20250218T194449Z
LAST-MODIFIED:20250218T194529Z
UID:6449-1740076200-1740083400@tdahestrie.org
SUMMARY:Atelier d'art
DESCRIPTION:Vous avez le goût de décrocher du tourbillon quotidien\, de vous changer les idées\, d’évacuer les tensions et de vous amuser? \n\nVenez vous joindre à nous pour une soirée d’art!!\nAucun talent particulier requis\, juste le désir de passer une agréable soirée et de vous faire du bien 🙂\n\nPour qui: adultes de 18 ans et plus\, membres de TDA/H Estrie\n\nCoût : 10$/ personne. Réservé aux membres de TDAH Estrie. En cas de problème financier\, vous pouvez nous contacter au 819-565-7131 p.4 ou intervenant5@tdahestrie.org\n\nLieu : 1820 rue Galt-Ouest\, Sherbrooke\, local 334\n\nQuand: Jeudi 20 février\n\nHeures: 18h30 à 20h30\n\nPlaces limitées. Inscription obligatoire avant le 14 février 2025. Au plaisir de vous rencontrer!\n\n\n*** IMPORTANT – Il faut absolument payer avant l’activité. \n\n\n***IMPORTANT – Veuillez nous aviser si vous ne pouvez plus participer à l’activité. Sachez qu’il n’y a pas de remboursement possible lors d’une annulation de votre part. Néanmoins\, si l’événement est annulé par TDAH Estrie\, nous effectuerons un remboursement pour chacun des participants.\n\nPour toute question\, contacter Meagan Brus au 819-565-7131 p.4\,  ou via –  intervenant5@tdahestrie.org
URL:https://tdahestrie.org/evenement/atelier-dart/
CATEGORIES:Autre
ATTACH;FMTTYPE=image/png:https://tdahestrie.org/wp-content/uploads/2025/02/activite-dart.png
END:VEVENT
BEGIN:VEVENT
DTSTART;TZID=America/Toronto:20250222T090000
DTEND;TZID=America/Toronto:20250222T113000
DTSTAMP:20260421T060905
CREATED:20240701T175933Z
LAST-MODIFIED:20240722T183216Z
UID:5916-1740214800-1740223800@tdahestrie.org
SUMMARY:Ateliers - PIFAM - Sherbrooke
DESCRIPTION:Mon cerveau apprivoisé – PIFAM\nSérie de 6 ateliers pour enfants de 10 à 12 ans atteints de TDAH. \nAtelier 1 – Penser comme un génie (découvrir différentes formes d’intelligence)\nUn cerveau attentif et intelligent (mieux comprendre le TDAH)\nAtelier 2 – La visualisation (développer la capacité à voir et manipuler les images mentales)\nLa verbalisation (développer le discours interne et travailler le langage)\nAtelier 3 – Le contremaître (gérer le temps et les ressources personnelles)\nAtelier 4 – La bibliothécaire (développer des meilleures façons de mémoriser l’information)\nL’artiste (trouver de nouvelles solutions\, adopter différents points de vue)\nAtelier 5 – L’architecte (rassembler et organiser l’information)\nLe menuisier (réaliser et respecter les étapes d’un plan)\nAtelier 6 – Le marché des efforts (bilan et réinvestissement)
URL:https://tdahestrie.org/evenement/ateliers-pifam-sherbrooke-2025-02-22/
LOCATION:TDAH Estrie\, 1820\, rue Galt Ouest\, Sherbrooke\, Québec\, J1K 1H8\, Canada
CATEGORIES:Atelier pour enfant
ATTACH;FMTTYPE=image/png:https://tdahestrie.org/wp-content/uploads/2024/07/Sans-titre.png
END:VEVENT
BEGIN:VEVENT
DTSTART;TZID=America/Toronto:20250226T183000
DTEND;TZID=America/Toronto:20250226T203000
DTSTAMP:20260421T060905
CREATED:20241204T203121Z
LAST-MODIFIED:20241204T203121Z
UID:6364-1740594600-1740601800@tdahestrie.org
SUMMARY:Ateliers pour adultes : Mieux vivre avec mon TDAH au quotidien
DESCRIPTION:Série de 6 ateliers de groupe pour les adultes se déroulant un soir de semaine. \n\n\nObjectifs des ateliers: \n\nMieux comprendre le TDAH et son impact dans votre quotidien.\nConnaître une diversité de stratégies pouvant améliorer la qualité de vie.\nPartager avec d’autres adultes qui vivent une réalité semblable.\nExpérimenter et intégrer des stratégies qui vous conviennent\n\nSujets abordés lors des rencontres : Attention\, concentration\, organisation\, planification\, gestion des émotions\, gestion du stress\, estime de soi et relations interpersonnelles.\n\n\n\nQuand : Les mercredis du 22 janvier au 26 février 2025\n\n\nHeure : de 18h30 à 20h30\n\nLieu : 1820 Galt Ouest\, local à confirmer\n\n* Tarifs :  Membres : 140$ | Non-membres : 190$\n* Des rabais peuvent s’appliquer en fonction de votre revenu familial
URL:https://tdahestrie.org/evenement/ateliers-pour-adultes-mieux-vivre-avec-mon-tdah-au-quotidien-6/
LOCATION:TDAH Estrie\, 1820\, rue Galt Ouest\, Sherbrooke\, Québec\, J1K 1H8\, Canada
CATEGORIES:Atelier pour adultes
ATTACH;FMTTYPE=image/webp:https://tdahestrie.org/wp-content/uploads/2024/12/Atelier-adulte-mieux-vivre.webp
ORGANIZER;CN="TDAH Estrie":MAILTO:adjointe@tdahestrie.org
END:VEVENT
END:VCALENDAR