BEGIN:VCALENDAR
VERSION:2.0
PRODID:-//TDAH Estrie - ECPv6.15.20//NONSGML v1.0//EN
CALSCALE:GREGORIAN
METHOD:PUBLISH
X-WR-CALNAME:TDAH Estrie
X-ORIGINAL-URL:https://tdahestrie.org
X-WR-CALDESC:Événements pour TDAH Estrie
REFRESH-INTERVAL;VALUE=DURATION:PT1H
X-Robots-Tag:noindex
X-PUBLISHED-TTL:PT1H
BEGIN:VTIMEZONE
TZID:America/Toronto
BEGIN:DAYLIGHT
TZOFFSETFROM:-0500
TZOFFSETTO:-0400
TZNAME:EDT
DTSTART:20240310T070000
END:DAYLIGHT
BEGIN:STANDARD
TZOFFSETFROM:-0400
TZOFFSETTO:-0500
TZNAME:EST
DTSTART:20241103T060000
END:STANDARD
BEGIN:DAYLIGHT
TZOFFSETFROM:-0500
TZOFFSETTO:-0400
TZNAME:EDT
DTSTART:20250309T070000
END:DAYLIGHT
BEGIN:STANDARD
TZOFFSETFROM:-0400
TZOFFSETTO:-0500
TZNAME:EST
DTSTART:20251102T060000
END:STANDARD
BEGIN:DAYLIGHT
TZOFFSETFROM:-0500
TZOFFSETTO:-0400
TZNAME:EDT
DTSTART:20260308T070000
END:DAYLIGHT
BEGIN:STANDARD
TZOFFSETFROM:-0400
TZOFFSETTO:-0500
TZNAME:EST
DTSTART:20261101T060000
END:STANDARD
END:VTIMEZONE
BEGIN:VEVENT
DTSTART;TZID=America/Toronto:20250308T090000
DTEND;TZID=America/Toronto:20250308T111500
DTSTAMP:20260421T073624
CREATED:20240701T180654Z
LAST-MODIFIED:20240729T154625Z
UID:5874-1741424400-1741432500@tdahestrie.org
SUMMARY:Ateliers - Ma Boîte à outils - Val-Du-Lac
DESCRIPTION:Ma Boite à outils – Gestion des émotions\nSérie de 6 ateliers pour enfants de 8 à 10 ans atteints de TDAH. \nAtelier 1 – Mieux me connaître\nAtelier 2 – Mieux comprendre mes émotions partie 1\nAtelier 3 – Mieux comprendre mes émotions partie 2\nAtelier 4 – Améliorer mes relations avec les autres partie 1\nAtelier 5 – Améliorer mes relations avec les autres partie 2\nAtelier 6 – Atelier bilan
URL:https://tdahestrie.org/evenement/ateliers-boite-a-outils-val-du-lac/
CATEGORIES:Atelier pour enfant
ATTACH;FMTTYPE=image/png:https://tdahestrie.org/wp-content/uploads/2022/09/Boite-a-outils-22-23-visuel-FB-500-x-500-px-1200-×-400-px.png
END:VEVENT
BEGIN:VEVENT
DTSTART;TZID=America/Toronto:20250313T180000
DTEND;TZID=America/Toronto:20250313T193000
DTSTAMP:20260421T073624
CREATED:20240703T184818Z
LAST-MODIFIED:20250311T203749Z
UID:5985-1741888800-1741894200@tdahestrie.org
SUMMARY:Séance d'information - Adultes
DESCRIPTION:Les rencontres d’information sont des sessions organisées en réponse à nos longues listes d’attente. Elles fournissent une occasion aux participants de découvrir nos services\, poser des questions\, et obtenir des informations détaillées sur nos offres et processus.
URL:https://tdahestrie.org/evenement/rencontre-dinformation-adultes-2025-03-13/
LOCATION:TDAH Estrie\, 1820\, rue Galt Ouest\, Sherbrooke\, Québec\, J1K 1H8\, Canada
CATEGORIES:Rencontre d'information
ATTACH;FMTTYPE=image/jpeg:https://tdahestrie.org/wp-content/uploads/2024/07/dreamstime_s_10196402-e1720032656646.jpg
END:VEVENT
BEGIN:VEVENT
DTSTART;TZID=America/Toronto:20250315T090000
DTEND;TZID=America/Toronto:20250315T111500
DTSTAMP:20260421T073624
CREATED:20240701T180654Z
LAST-MODIFIED:20240729T154625Z
UID:5897-1742029200-1742037300@tdahestrie.org
SUMMARY:Ateliers - Ma Boîte à outils - Val-Du-Lac
DESCRIPTION:Ma Boite à outils – Gestion des émotions\nSérie de 6 ateliers pour enfants de 8 à 10 ans atteints de TDAH. \nAtelier 1 – Mieux me connaître\nAtelier 2 – Mieux comprendre mes émotions partie 1\nAtelier 3 – Mieux comprendre mes émotions partie 2\nAtelier 4 – Améliorer mes relations avec les autres partie 1\nAtelier 5 – Améliorer mes relations avec les autres partie 2\nAtelier 6 – Atelier bilan
URL:https://tdahestrie.org/evenement/ateliers-boite-a-outils-val-du-lac-2025-03-15/
CATEGORIES:Atelier pour enfant
ATTACH;FMTTYPE=image/png:https://tdahestrie.org/wp-content/uploads/2022/09/Boite-a-outils-22-23-visuel-FB-500-x-500-px-1200-×-400-px.png
END:VEVENT
BEGIN:VEVENT
DTSTART;TZID=America/Toronto:20250318T180000
DTEND;TZID=America/Toronto:20250318T193000
DTSTAMP:20260421T073624
CREATED:20240703T190049Z
LAST-MODIFIED:20250311T203740Z
UID:5995-1742320800-1742326200@tdahestrie.org
SUMMARY:Séance d'information - Parents
DESCRIPTION:Les rencontres d’information sont des sessions organisées en réponse à nos longues listes d’attente. Elles fournissent une occasion aux participants de découvrir nos services\, poser des questions\, et obtenir des informations détaillées sur nos offres et processus.
URL:https://tdahestrie.org/evenement/rencontre-dinformation-parents-2025-03-18/
LOCATION:TDAH Estrie\, 1820\, rue Galt Ouest\, Sherbrooke\, Québec\, J1K 1H8\, Canada
CATEGORIES:Rencontre d'information
ATTACH;FMTTYPE=image/jpeg:https://tdahestrie.org/wp-content/uploads/2024/07/question-4105529_640-e1720033223290.jpg
END:VEVENT
BEGIN:VEVENT
DTSTART;TZID=America/Toronto:20250322T090000
DTEND;TZID=America/Toronto:20250322T111500
DTSTAMP:20260421T073624
CREATED:20240701T180654Z
LAST-MODIFIED:20240729T154625Z
UID:5898-1742634000-1742642100@tdahestrie.org
SUMMARY:Ateliers - Ma Boîte à outils - Val-Du-Lac
DESCRIPTION:Ma Boite à outils – Gestion des émotions\nSérie de 6 ateliers pour enfants de 8 à 10 ans atteints de TDAH. \nAtelier 1 – Mieux me connaître\nAtelier 2 – Mieux comprendre mes émotions partie 1\nAtelier 3 – Mieux comprendre mes émotions partie 2\nAtelier 4 – Améliorer mes relations avec les autres partie 1\nAtelier 5 – Améliorer mes relations avec les autres partie 2\nAtelier 6 – Atelier bilan
URL:https://tdahestrie.org/evenement/ateliers-boite-a-outils-val-du-lac-2025-03-22/
CATEGORIES:Atelier pour enfant
ATTACH;FMTTYPE=image/png:https://tdahestrie.org/wp-content/uploads/2022/09/Boite-a-outils-22-23-visuel-FB-500-x-500-px-1200-×-400-px.png
END:VEVENT
BEGIN:VEVENT
DTSTART;TZID=America/Toronto:20250329T090000
DTEND;TZID=America/Toronto:20250329T111500
DTSTAMP:20260421T073624
CREATED:20240701T180654Z
LAST-MODIFIED:20240729T154626Z
UID:5899-1743238800-1743246900@tdahestrie.org
SUMMARY:Ateliers - Ma Boîte à outils - Val-Du-Lac
DESCRIPTION:Ma Boite à outils – Gestion des émotions\nSérie de 6 ateliers pour enfants de 8 à 10 ans atteints de TDAH. \nAtelier 1 – Mieux me connaître\nAtelier 2 – Mieux comprendre mes émotions partie 1\nAtelier 3 – Mieux comprendre mes émotions partie 2\nAtelier 4 – Améliorer mes relations avec les autres partie 1\nAtelier 5 – Améliorer mes relations avec les autres partie 2\nAtelier 6 – Atelier bilan
URL:https://tdahestrie.org/evenement/ateliers-boite-a-outils-val-du-lac-2025-03-29/
CATEGORIES:Atelier pour enfant
ATTACH;FMTTYPE=image/png:https://tdahestrie.org/wp-content/uploads/2022/09/Boite-a-outils-22-23-visuel-FB-500-x-500-px-1200-×-400-px.png
END:VEVENT
END:VCALENDAR