BEGIN:VCALENDAR
VERSION:2.0
PRODID:-//TDAH Estrie - ECPv6.15.20//NONSGML v1.0//EN
CALSCALE:GREGORIAN
METHOD:PUBLISH
X-WR-CALNAME:TDAH Estrie
X-ORIGINAL-URL:https://tdahestrie.org
X-WR-CALDESC:Événements pour TDAH Estrie
REFRESH-INTERVAL;VALUE=DURATION:PT1H
X-Robots-Tag:noindex
X-PUBLISHED-TTL:PT1H
BEGIN:VTIMEZONE
TZID:America/Toronto
BEGIN:DAYLIGHT
TZOFFSETFROM:-0500
TZOFFSETTO:-0400
TZNAME:EDT
DTSTART:20240310T070000
END:DAYLIGHT
BEGIN:STANDARD
TZOFFSETFROM:-0400
TZOFFSETTO:-0500
TZNAME:EST
DTSTART:20241103T060000
END:STANDARD
BEGIN:DAYLIGHT
TZOFFSETFROM:-0500
TZOFFSETTO:-0400
TZNAME:EDT
DTSTART:20250309T070000
END:DAYLIGHT
BEGIN:STANDARD
TZOFFSETFROM:-0400
TZOFFSETTO:-0500
TZNAME:EST
DTSTART:20251102T060000
END:STANDARD
BEGIN:DAYLIGHT
TZOFFSETFROM:-0500
TZOFFSETTO:-0400
TZNAME:EDT
DTSTART:20260308T070000
END:DAYLIGHT
BEGIN:STANDARD
TZOFFSETFROM:-0400
TZOFFSETTO:-0500
TZNAME:EST
DTSTART:20261101T060000
END:STANDARD
END:VTIMEZONE
BEGIN:VEVENT
DTSTART;TZID=America/Toronto:20250910T180000
DTEND;TZID=America/Toronto:20250910T193000
DTSTAMP:20260421T201142
CREATED:20250708T143444Z
LAST-MODIFIED:20250708T143444Z
UID:6621-1757527200-1757532600@tdahestrie.org
SUMMARY:Séance d'information - Adultes
DESCRIPTION:Nos séances d’information sont des rencontres en petit groupe qui visent à démystifier le TDAH et à présenter plus en détail les services offerts par TDAH Estrie. Elles constituent la porte d’entrée habituelle pour accéder à un soutien individuel. Nous prenons aussi le temps de répondre aux questions des participants afin de clarifier certains aspects au besoin.Ces séances sont gratuites pour les membres de TDAH Estrie.\nL’adhésion annuelle est de 25 $ pour un adulte ou de 30 $ pour une famille. \n  \nInscription par téléphone au : 819-565-7131.
URL:https://tdahestrie.org/evenement/seance-dinformation-adultes-2/
LOCATION:TDAH Estrie\, 1820\, rue Galt Ouest\, Sherbrooke\, Québec\, J1K 1H8\, Canada
CATEGORIES:Rencontre d'information
ATTACH;FMTTYPE=image/jpeg:https://tdahestrie.org/wp-content/uploads/2024/07/dreamstime_s_10196402-e1720032656646.jpg
END:VEVENT
BEGIN:VEVENT
DTSTART;TZID=America/Toronto:20250913T090000
DTEND;TZID=America/Toronto:20250913T110000
DTSTAMP:20260421T201142
CREATED:20250717T175316Z
LAST-MODIFIED:20250717T175316Z
UID:6684-1757754000-1757761200@tdahestrie.org
SUMMARY:Ateliers - Ma Boîte à Outils - Sherbrooke
DESCRIPTION:Ma Boite à outils – Gestion des émotions\nSérie de 6 ateliers pour enfants de 8 à 10 ans ayant un TDAH. \nObjectifs : \n\nAider l’enfant à se connaître et à comprendre le TDAH\nDévelopper des stratégies pour mieux gérer ses émotions et son impulsivité\nOutiller l’enfant pour mieux communiquer et interagir avec les autres
URL:https://tdahestrie.org/evenement/ateliers-ma-boite-a-outils-sherbrooke-2/
LOCATION:TDAH Estrie\, 1820\, rue Galt Ouest\, Sherbrooke\, Québec\, J1K 1H8\, Canada
CATEGORIES:Atelier pour enfant
ATTACH;FMTTYPE=image/png:https://tdahestrie.org/wp-content/uploads/2022/09/Boite-a-outils-22-23-visuel-FB-500-x-500-px-1200-×-400-px.png
END:VEVENT
BEGIN:VEVENT
DTSTART;TZID=America/Toronto:20250916T180000
DTEND;TZID=America/Toronto:20250916T193000
DTSTAMP:20260421T201142
CREATED:20250708T144131Z
LAST-MODIFIED:20250708T144131Z
UID:6625-1758045600-1758051000@tdahestrie.org
SUMMARY:Séance d'information - Parents
DESCRIPTION:Nos séances d’information sont des rencontres en petit groupe qui visent à démystifier le TDAH et à présenter plus en détail les services offerts par TDAH Estrie. Elles constituent la porte d’entrée habituelle pour accéder à un soutien individuel. Nous prenons aussi le temps de répondre aux questions des participants afin de clarifier certains aspects au besoin.Ces séances sont gratuites pour les membres de TDAH Estrie. L’adhésion annuelle est de 25 $ pour un adulte ou de 30 $ pour une famille. \n  \nInscription par téléphone au : 819-565-7131.
URL:https://tdahestrie.org/evenement/seance-dinformation-parents-2/
LOCATION:TDAH Estrie\, 1820\, rue Galt Ouest\, Sherbrooke\, Québec\, J1K 1H8\, Canada
CATEGORIES:Rencontre d'information
ATTACH;FMTTYPE=image/jpeg:https://tdahestrie.org/wp-content/uploads/2024/07/question-4105529_640-e1720033223290.jpg
END:VEVENT
BEGIN:VEVENT
DTSTART;TZID=America/Toronto:20250920T090000
DTEND;TZID=America/Toronto:20250920T110000
DTSTAMP:20260421T201142
CREATED:20250717T175239Z
LAST-MODIFIED:20250717T175239Z
UID:6682-1758358800-1758366000@tdahestrie.org
SUMMARY:Ateliers - Ma Boîte à Outils - Sherbrooke
DESCRIPTION:Ma Boite à outils – Gestion des émotions\nSérie de 6 ateliers pour enfants de 8 à 10 ans ayant un TDAH. \nObjectifs : \n\nAider l’enfant à se connaître et à comprendre le TDAH\nDévelopper des stratégies pour mieux gérer ses émotions et son impulsivité\nOutiller l’enfant pour mieux communiquer et interagir avec les autres
URL:https://tdahestrie.org/evenement/ateliers-ma-boite-a-outils-sherbrooke/
LOCATION:TDAH Estrie\, 1820\, rue Galt Ouest\, Sherbrooke\, Québec\, J1K 1H8\, Canada
CATEGORIES:Atelier pour enfant
ATTACH;FMTTYPE=image/png:https://tdahestrie.org/wp-content/uploads/2022/09/Boite-a-outils-22-23-visuel-FB-500-x-500-px-1200-×-400-px.png
END:VEVENT
BEGIN:VEVENT
DTSTART;TZID=America/Toronto:20250927T090000
DTEND;TZID=America/Toronto:20250927T110000
DTSTAMP:20260421T201142
CREATED:20250717T175348Z
LAST-MODIFIED:20250717T175348Z
UID:6686-1758963600-1758970800@tdahestrie.org
SUMMARY:Ateliers - Ma Boîte à Outils - Sherbrooke
DESCRIPTION:Ma Boite à outils – Gestion des émotions\nSérie de 6 ateliers pour enfants de 8 à 10 ans ayant un TDAH. \nObjectifs : \n\nAider l’enfant à se connaître et à comprendre le TDAH\nDévelopper des stratégies pour mieux gérer ses émotions et son impulsivité\nOutiller l’enfant pour mieux communiquer et interagir avec les autres
URL:https://tdahestrie.org/evenement/ateliers-ma-boite-a-outils-sherbrooke-3/
LOCATION:TDAH Estrie\, 1820\, rue Galt Ouest\, Sherbrooke\, Québec\, J1K 1H8\, Canada
CATEGORIES:Atelier pour enfant
ATTACH;FMTTYPE=image/png:https://tdahestrie.org/wp-content/uploads/2022/09/Boite-a-outils-22-23-visuel-FB-500-x-500-px-1200-×-400-px.png
END:VEVENT
END:VCALENDAR