BEGIN:VCALENDAR
VERSION:2.0
PRODID:-//TDAH Estrie - ECPv6.15.20//NONSGML v1.0//EN
CALSCALE:GREGORIAN
METHOD:PUBLISH
X-ORIGINAL-URL:https://tdahestrie.org
X-WR-CALDESC:Événements pour TDAH Estrie
REFRESH-INTERVAL;VALUE=DURATION:PT1H
X-Robots-Tag:noindex
X-PUBLISHED-TTL:PT1H
BEGIN:VTIMEZONE
TZID:America/Toronto
BEGIN:DAYLIGHT
TZOFFSETFROM:-0500
TZOFFSETTO:-0400
TZNAME:EDT
DTSTART:20240310T070000
END:DAYLIGHT
BEGIN:STANDARD
TZOFFSETFROM:-0400
TZOFFSETTO:-0500
TZNAME:EST
DTSTART:20241103T060000
END:STANDARD
BEGIN:DAYLIGHT
TZOFFSETFROM:-0500
TZOFFSETTO:-0400
TZNAME:EDT
DTSTART:20250309T070000
END:DAYLIGHT
BEGIN:STANDARD
TZOFFSETFROM:-0400
TZOFFSETTO:-0500
TZNAME:EST
DTSTART:20251102T060000
END:STANDARD
BEGIN:DAYLIGHT
TZOFFSETFROM:-0500
TZOFFSETTO:-0400
TZNAME:EDT
DTSTART:20260308T070000
END:DAYLIGHT
BEGIN:STANDARD
TZOFFSETFROM:-0400
TZOFFSETTO:-0500
TZNAME:EST
DTSTART:20261101T060000
END:STANDARD
END:VTIMEZONE
BEGIN:VEVENT
DTSTART;TZID=America/Toronto:20251002T183000
DTEND;TZID=America/Toronto:20251002T203000
DTSTAMP:20260421T183706
CREATED:20240701T181927Z
LAST-MODIFIED:20250717T145734Z
UID:5881-1759429800-1759437000@tdahestrie.org
SUMMARY:Ateliers - Mieux vivre avec mon TDAH au quotidien - Magog
DESCRIPTION:Mieux vivre avec mon TDAH au quotidien\nSérie de 6 ateliers de groupe pour les adultes se déroulant un soir de semaine\, à Magog.\n\n\n\nObjectifs des ateliers : \n\nMieux comprendre le TDAH et son impact dans votre quotidien\nConnaître une diversité de stratégies pouvant améliorer la qualité de vie\nPartager avec d’autres adultes qui vivent une réalité semblable\nExpérimenter et intégrer des stratégies qui vous conviennent \n\nSujets abordés lors des rencontres : Attention\, concentration\, organisation\, planification\, gestion des émotions\, gestion du stress et de l’anxiété\, gestion d’un budget\, estime de soi et communication.
URL:https://tdahestrie.org/evenement/ateliers-mieux-vivre-avec-mon-tdah-au-quotidien-magog/
LOCATION:CJE de Magog\, 612 rue Sherbrooke\, 612\, rue Sherbrooke\, Magog
CATEGORIES:Atelier pour adultes
ATTACH;FMTTYPE=image/png:https://tdahestrie.org/wp-content/uploads/2024/07/Atelier-adulte-mieux-vivre.png
END:VEVENT
BEGIN:VEVENT
DTSTART;TZID=America/Toronto:20251004T090000
DTEND;TZID=America/Toronto:20251004T110000
DTSTAMP:20260421T183706
CREATED:20250717T175419Z
LAST-MODIFIED:20250717T175419Z
UID:6688-1759568400-1759575600@tdahestrie.org
SUMMARY:Ateliers - Ma Boîte à Outils - Sherbrooke
DESCRIPTION:Ma Boite à outils – Gestion des émotions\nSérie de 6 ateliers pour enfants de 8 à 10 ans ayant un TDAH. \nObjectifs : \n\nAider l’enfant à se connaître et à comprendre le TDAH\nDévelopper des stratégies pour mieux gérer ses émotions et son impulsivité\nOutiller l’enfant pour mieux communiquer et interagir avec les autres
URL:https://tdahestrie.org/evenement/ateliers-ma-boite-a-outils-sherbrooke-4/
LOCATION:TDAH Estrie\, 1820\, rue Galt Ouest\, Sherbrooke\, Québec\, J1K 1H8\, Canada
CATEGORIES:Atelier pour enfant
ATTACH;FMTTYPE=image/png:https://tdahestrie.org/wp-content/uploads/2022/09/Boite-a-outils-22-23-visuel-FB-500-x-500-px-1200-×-400-px.png
END:VEVENT
BEGIN:VEVENT
DTSTART;TZID=America/Toronto:20251007T180000
DTEND;TZID=America/Toronto:20251007T193000
DTSTAMP:20260421T183706
CREATED:20250708T144434Z
LAST-MODIFIED:20250708T144434Z
UID:6633-1759860000-1759865400@tdahestrie.org
SUMMARY:Séance d'information - Adultes
DESCRIPTION:Nos séances d’information sont des rencontres en petit groupe qui visent à démystifier le TDAH et à présenter plus en détail les services offerts par TDAH Estrie. Elles constituent la porte d’entrée habituelle pour accéder à un soutien individuel. Nous prenons aussi le temps de répondre aux questions des participants afin de clarifier certains aspects au besoin.Ces séances sont gratuites pour les membres de TDAH Estrie.\nL’adhésion annuelle est de 25 $ pour un adulte ou de 30 $ pour une famille. \n  \nInscription par téléphone au : 819-565-7131.
URL:https://tdahestrie.org/evenement/seance-dinformation-adultes-3/
LOCATION:TDAH Estrie\, 1820\, rue Galt Ouest\, Sherbrooke\, Québec\, J1K 1H8\, Canada
CATEGORIES:Rencontre d'information
ATTACH;FMTTYPE=image/jpeg:https://tdahestrie.org/wp-content/uploads/2024/07/dreamstime_s_10196402-e1720032656646.jpg
END:VEVENT
BEGIN:VEVENT
DTSTART;TZID=America/Toronto:20251009T183000
DTEND;TZID=America/Toronto:20251009T203000
DTSTAMP:20260421T183706
CREATED:20250717T150230Z
LAST-MODIFIED:20250717T150230Z
UID:6670-1760034600-1760041800@tdahestrie.org
SUMMARY:Ateliers - Mieux vivre avec mon TDAH au quotidien - Magog
DESCRIPTION:Mieux vivre avec mon TDAH au quotidien\nSérie de 6 ateliers de groupe pour les adultes se déroulant un soir de semaine\, à Magog. \n\n\n\nObjectifs des ateliers : \n\nMieux comprendre le TDAH et son impact dans votre quotidien\nConnaître une diversité de stratégies pouvant améliorer la qualité de vie\nPartager avec d’autres adultes qui vivent une réalité semblable\nExpérimenter et intégrer des stratégies qui vous conviennent \n\nSujets abordés lors des rencontres : Attention\, concentration\, organisation\, planification\, gestion des émotions\, gestion du stress et de l’anxiété\, gestion d’un budget\, estime de soi et communication.
URL:https://tdahestrie.org/evenement/ateliers-mieux-vivre-avec-mon-tdah-au-quotidien-magog-2/
LOCATION:CJE de Magog\, 612 rue Sherbrooke\, 612\, rue Sherbrooke\, Magog
CATEGORIES:Atelier pour adultes
ATTACH;FMTTYPE=image/png:https://tdahestrie.org/wp-content/uploads/2024/07/Atelier-adulte-mieux-vivre.png
END:VEVENT
BEGIN:VEVENT
DTSTART;TZID=America/Toronto:20251011T090000
DTEND;TZID=America/Toronto:20251011T110000
DTSTAMP:20260421T183706
CREATED:20250717T175456Z
LAST-MODIFIED:20250717T175456Z
UID:6690-1760173200-1760180400@tdahestrie.org
SUMMARY:Ateliers - Ma Boîte à Outils - Sherbrooke
DESCRIPTION:Ma Boite à outils – Gestion des émotions\nSérie de 6 ateliers pour enfants de 8 à 10 ans ayant un TDAH. \nObjectifs : \n\nAider l’enfant à se connaître et à comprendre le TDAH\nDévelopper des stratégies pour mieux gérer ses émotions et son impulsivité\nOutiller l’enfant pour mieux communiquer et interagir avec les autres
URL:https://tdahestrie.org/evenement/ateliers-ma-boite-a-outils-sherbrooke-5/
LOCATION:TDAH Estrie\, 1820\, rue Galt Ouest\, Sherbrooke\, Québec\, J1K 1H8\, Canada
CATEGORIES:Atelier pour enfant
ATTACH;FMTTYPE=image/png:https://tdahestrie.org/wp-content/uploads/2022/09/Boite-a-outils-22-23-visuel-FB-500-x-500-px-1200-×-400-px.png
END:VEVENT
BEGIN:VEVENT
DTSTART;TZID=America/Toronto:20251014T180000
DTEND;TZID=America/Toronto:20251014T193000
DTSTAMP:20260421T183706
CREATED:20250708T144216Z
LAST-MODIFIED:20250708T144216Z
UID:6627-1760464800-1760470200@tdahestrie.org
SUMMARY:Séance d'information - Parents
DESCRIPTION:Nos séances d’information sont des rencontres en petit groupe qui visent à démystifier le TDAH et à présenter plus en détail les services offerts par TDAH Estrie. Elles constituent la porte d’entrée habituelle pour accéder à un soutien individuel. Nous prenons aussi le temps de répondre aux questions des participants afin de clarifier certains aspects au besoin.Ces séances sont gratuites pour les membres de TDAH Estrie. L’adhésion annuelle est de 25 $ pour un adulte ou de 30 $ pour une famille. \n  \nInscription par téléphone au : 819-565-7131.
URL:https://tdahestrie.org/evenement/seance-dinformation-parents-3/
LOCATION:TDAH Estrie\, 1820\, rue Galt Ouest\, Sherbrooke\, Québec\, J1K 1H8\, Canada
CATEGORIES:Rencontre d'information
ATTACH;FMTTYPE=image/jpeg:https://tdahestrie.org/wp-content/uploads/2024/07/question-4105529_640-e1720033223290.jpg
END:VEVENT
BEGIN:VEVENT
DTSTART;TZID=America/Toronto:20251016T183000
DTEND;TZID=America/Toronto:20251016T203000
DTSTAMP:20260421T183706
CREATED:20250717T150322Z
LAST-MODIFIED:20250717T150322Z
UID:6672-1760639400-1760646600@tdahestrie.org
SUMMARY:Ateliers - Mieux vivre avec mon TDAH au quotidien - Magog
DESCRIPTION:Mieux vivre avec mon TDAH au quotidien\nSérie de 6 ateliers de groupe pour les adultes se déroulant un soir de semaine\, à Magog.\n\n\nObjectifs des ateliers : \n\nMieux comprendre le TDAH et son impact dans votre quotidien\nConnaître une diversité de stratégies pouvant améliorer la qualité de vie\nPartager avec d’autres adultes qui vivent une réalité semblable\nExpérimenter et intégrer des stratégies qui vous conviennent \n\nSujets abordés lors des rencontres : Attention\, concentration\, organisation\, planification\, gestion des émotions\, gestion du stress et de l’anxiété\, gestion d’un budget\, estime de soi et communication.
URL:https://tdahestrie.org/evenement/ateliers-mieux-vivre-avec-mon-tdah-au-quotidien-magog-3/
LOCATION:CJE de Magog\, 612 rue Sherbrooke\, 612\, rue Sherbrooke\, Magog
CATEGORIES:Atelier pour adultes
ATTACH;FMTTYPE=image/png:https://tdahestrie.org/wp-content/uploads/2024/07/Atelier-adulte-mieux-vivre.png
END:VEVENT
BEGIN:VEVENT
DTSTART;TZID=America/Toronto:20251018T090000
DTEND;TZID=America/Toronto:20251018T110000
DTSTAMP:20260421T183706
CREATED:20250717T175525Z
LAST-MODIFIED:20250717T175525Z
UID:6692-1760778000-1760785200@tdahestrie.org
SUMMARY:Ateliers - Ma Boîte à Outils - Sherbrooke
DESCRIPTION:Ma Boite à outils – Gestion des émotions\nSérie de 6 ateliers pour enfants de 8 à 10 ans ayant un TDAH. \nObjectifs : \n\nAider l’enfant à se connaître et à comprendre le TDAH\nDévelopper des stratégies pour mieux gérer ses émotions et son impulsivité\nOutiller l’enfant pour mieux communiquer et interagir avec les autres
URL:https://tdahestrie.org/evenement/ateliers-ma-boite-a-outils-sherbrooke-6/
LOCATION:TDAH Estrie\, 1820\, rue Galt Ouest\, Sherbrooke\, Québec\, J1K 1H8\, Canada
CATEGORIES:Atelier pour enfant
ATTACH;FMTTYPE=image/png:https://tdahestrie.org/wp-content/uploads/2022/09/Boite-a-outils-22-23-visuel-FB-500-x-500-px-1200-×-400-px.png
END:VEVENT
BEGIN:VEVENT
DTSTART;TZID=America/Toronto:20251023T183000
DTEND;TZID=America/Toronto:20251023T203000
DTSTAMP:20260421T183706
CREATED:20250717T150400Z
LAST-MODIFIED:20250717T150400Z
UID:6674-1761244200-1761251400@tdahestrie.org
SUMMARY:Ateliers - Mieux vivre avec mon TDAH au quotidien - Magog
DESCRIPTION:Mieux vivre avec mon TDAH au quotidien\nSérie de 6 ateliers de groupe pour les adultes se déroulant un soir de semaine\, à Magog.\n\n\nObjectifs des ateliers : \n\nMieux comprendre le TDAH et son impact dans votre quotidien\nConnaître une diversité de stratégies pouvant améliorer la qualité de vie\nPartager avec d’autres adultes qui vivent une réalité semblable\nExpérimenter et intégrer des stratégies qui vous conviennent \n\nSujets abordés lors des rencontres : Attention\, concentration\, organisation\, planification\, gestion des émotions\, gestion du stress et de l’anxiété\, gestion d’un budget\, estime de soi et communication.
URL:https://tdahestrie.org/evenement/ateliers-mieux-vivre-avec-mon-tdah-au-quotidien-magog-4/
LOCATION:CJE de Magog\, 612 rue Sherbrooke\, 612\, rue Sherbrooke\, Magog
CATEGORIES:Atelier pour adultes
ATTACH;FMTTYPE=image/png:https://tdahestrie.org/wp-content/uploads/2024/07/Atelier-adulte-mieux-vivre.png
END:VEVENT
BEGIN:VEVENT
DTSTART;TZID=America/Toronto:20251030T183000
DTEND;TZID=America/Toronto:20251030T203000
DTSTAMP:20260421T183706
CREATED:20250717T150433Z
LAST-MODIFIED:20250717T150433Z
UID:6676-1761849000-1761856200@tdahestrie.org
SUMMARY:Ateliers - Mieux vivre avec mon TDAH au quotidien - Magog
DESCRIPTION:Mieux vivre avec mon TDAH au quotidien\nSérie de 6 ateliers de groupe pour les adultes se déroulant un soir de semaine\, à Magog.\n\n\nObjectifs des ateliers : \n\nMieux comprendre le TDAH et son impact dans votre quotidien\nConnaître une diversité de stratégies pouvant améliorer la qualité de vie\nPartager avec d’autres adultes qui vivent une réalité semblable\nExpérimenter et intégrer des stratégies qui vous conviennent \n\nSujets abordés lors des rencontres : Attention\, concentration\, organisation\, planification\, gestion des émotions\, gestion du stress et de l’anxiété\, gestion d’un budget\, estime de soi et communication.
URL:https://tdahestrie.org/evenement/ateliers-mieux-vivre-avec-mon-tdah-au-quotidien-magog-5/
LOCATION:CJE de Magog\, 612 rue Sherbrooke\, 612\, rue Sherbrooke\, Magog
CATEGORIES:Atelier pour adultes
ATTACH;FMTTYPE=image/png:https://tdahestrie.org/wp-content/uploads/2024/07/Atelier-adulte-mieux-vivre.png
END:VEVENT
END:VCALENDAR